BEGIN:VCALENDAR
VERSION:2.0
PRODID:-//TYPO3/NONSGML News system (news)//EN
BEGIN:VEVENT
UID:news-2413@https://www.telekom-mms.com/
DTSTAMP:20260413T084040Z
DTSTART:20260505T171700+0200
DTEND:20260506T171700+0200
SUMMARY:OMR Festival 2026
LOCATION:Hamburg Messe
END:VEVENT
END:VCALENDAR